BEGIN:VCALENDAR
VERSION:2.0
PRODID:-//wp-events-plugin.com//7.0.5//EN
TZID:Europe/Paris
X-WR-TIMEZONE:Europe/Paris
BEGIN:VEVENT
UID:244@cftc-idf.fr
DTSTART;TZID=Europe/Paris:20260915T090000
DTEND;TZID=Europe/Paris:20260917T170000
DTSTAMP:20251030T135933Z
URL:https://www.cftc-idf.fr/nos-formations/formation-rupture-du-contrat-de
 -travail-14/
SUMMARY:Formation Rupture du contrat de travail
DESCRIPTION:Public concerné : tout conseiller prud’homme\nLes objectifs 
 de la formation :\n\n	Expliciter les modes de rupture du contrat de travai
 l et apprendre à traiter une situation de rupture (étude de cas)\n	Ident
 ifier les conséquences indemnitaires suivant le cas de rupture\n\nLes mé
 thodes pédagogiques : participation active des stagiaires\, questionnaire
 s de contrôle de connaissances\, cas pratiques et accès à des ressource
 s pédagogiques sur la plateforme formation CFTC/ espace prud’homie\n&nb
 sp\;\nChèque de caution de 25 € obligatoire pour valider votre inscript
 ion à une formation\, à envoyer à la structure concernée : UD ou URIF.
  Les forums ne sont pas concernés.\n&nbsp\;\nVoir le programme complet \
 nDEMANDE CFESES EMPLOYEUR 2026
ATTACH;FMTTYPE=image/jpeg:https://www.cftc-idf.fr/wp-content/uploads/2023/
 08/avocat-etudiant-droit-1.jpg
CATEGORIES:UD 94
LOCATION:UD 94\, Maison des Syndicats – 11 rue des Archives \, Créteil\,
  94010 \, France
X-APPLE-STRUCTURED-LOCATION;VALUE=URI;X-ADDRESS=Maison des Syndicats – 11
  rue des Archives \, Créteil\, 94010 \, France;X-APPLE-RADIUS=100;X-TITLE
 =UD 94:geo:0,0
END:VEVENT
BEGIN:VTIMEZONE
TZID:Europe/Paris
X-LIC-LOCATION:Europe/Paris
BEGIN:DAYLIGHT
DTSTART:20260329T030000
TZOFFSETFROM:+0100
TZOFFSETTO:+0200
TZNAME:CEST
END:DAYLIGHT
END:VTIMEZONE
END:VCALENDAR