BEGIN:VCALENDAR
VERSION:2.0
PRODID:-//wp-events-plugin.com//7.0.5//EN
TZID:Europe/Paris
X-WR-TIMEZONE:Europe/Paris
BEGIN:VEVENT
UID:278@cftc-idf.fr
DTSTART;TZID=Europe/Paris:20261103T090000
DTEND;TZID=Europe/Paris:20261105T170000
DTSTAMP:20251106T145745Z
URL:https://www.cftc-idf.fr/nos-formations/formation-cse-50-salaries-10/
SUMMARY:Formation CSE +50 salariés
DESCRIPTION:Public concerné : élus et membres d’un CSE d’une entrepri
 se de 50 salariés et plus.\n\nLes objectifs de la formation :\n\n	Identif
 ier les attributions spécifiques d’un CSE d’une entreprise de 50 sala
 riés et plus.\n	Connaître les règles de fonctionnement d’un CSE d’u
 ne entreprise de 50 salariés plus et adopter la posture adéquate face à
  l’employeur.\n	Cibler les moyens d’action utiles à l’exercice de s
 es missions et apprendre à les utiliser en situation.\n\nMéthodes pédag
 ogiques : méthodes actives et collaboratives / études de cas / mises en 
 situation\n&nbsp\;\nChèque de caution de 25 € obligatoire pour valider 
 votre inscription à une formation\, à envoyer à la structure concernée
  : UD ou URIF. Les forums ne sont pas concernés.\nVoir le programme compl
 et \nDEMANDE CFESES EMPLOYEUR 2026
ATTACH;FMTTYPE=image/jpeg:https://www.cftc-idf.fr/wp-content/uploads/2023/
 08/documents-commerciaux-travailleurs-fond.jpg
CATEGORIES:UD 94
LOCATION:UD 94\, Maison des Syndicats – 11 rue des Archives \, Créteil\,
  94010 \, France
X-APPLE-STRUCTURED-LOCATION;VALUE=URI;X-ADDRESS=Maison des Syndicats – 11
  rue des Archives \, Créteil\, 94010 \, France;X-APPLE-RADIUS=100;X-TITLE
 =UD 94:geo:0,0
END:VEVENT
BEGIN:VTIMEZONE
TZID:Europe/Paris
X-LIC-LOCATION:Europe/Paris
BEGIN:STANDARD
DTSTART:20261025T020000
TZOFFSETFROM:+0200
TZOFFSETTO:+0100
TZNAME:CET
END:STANDARD
END:VTIMEZONE
END:VCALENDAR