BEGIN:VCALENDAR
VERSION:2.0
PRODID:-//wp-events-plugin.com//7.0.5//EN
TZID:Europe/Paris
X-WR-TIMEZONE:Europe/Paris
BEGIN:VEVENT
UID:248@cftc-idf.fr
DTSTART;TZID=Europe/Paris:20261013T090000
DTEND;TZID=Europe/Paris:20261015T170000
DTSTAMP:20251030T141849Z
URL:https://www.cftc-idf.fr/nos-formations/formation-conseiller-du-salarie
 -9/
SUMMARY:Formation Conseiller du salarié
DESCRIPTION:Le public :  conseillers du salarié\nLes prérequis : avoir
  suivi les modules « Initiation en droit du travail » et « Rupture du
  contrat de travail » ou disposer de connaissances de bases en droit du 
 travail\nLes objectifs de la formation :\n\n	Identifier le statut et les m
 issions du conseiller du salarié\n	Acquérir les bases de l’assistance 
 du salarié lors de l’entretien préalable\n	Maîtriser les procédures 
 de licenciement et de rupture conventionnelle\n\nChèque de caution de 25 
 € obligatoire pour valider votre inscription à une formation\, à envoy
 er à la structure concernée : UD ou URIF. Les forums ne sont pas concern
 és.\nVoir le programme complet \nDEMANDE CFESES EMPLOYEUR 2026
ATTACH;FMTTYPE=image/jpeg:https://www.cftc-idf.fr/wp-content/uploads/2023/
 05/recolte-personnes-qui-regardent-document-presse-papier-1.jpg
CATEGORIES:UD 94
LOCATION:UD 94\, Maison des Syndicats – 11 rue des Archives \, Créteil\,
  94010 \, France
X-APPLE-STRUCTURED-LOCATION;VALUE=URI;X-ADDRESS=Maison des Syndicats – 11
  rue des Archives \, Créteil\, 94010 \, France;X-APPLE-RADIUS=100;X-TITLE
 =UD 94:geo:0,0
END:VEVENT
BEGIN:VTIMEZONE
TZID:Europe/Paris
X-LIC-LOCATION:Europe/Paris
BEGIN:DAYLIGHT
DTSTART:20260329T030000
TZOFFSETFROM:+0100
TZOFFSETTO:+0200
TZNAME:CEST
END:DAYLIGHT
END:VTIMEZONE
END:VCALENDAR