BEGIN:VCALENDAR
VERSION:2.0
PRODID:-//wp-events-plugin.com//7.0.5//EN
TZID:Europe/Paris
X-WR-TIMEZONE:Europe/Paris
BEGIN:VEVENT
UID:255@cftc-idf.fr
DTSTART;TZID=Europe/Paris:20261201T090000
DTEND;TZID=Europe/Paris:20261201T170000
DTSTAMP:20251030T143847Z
URL:https://www.cftc-idf.fr/nos-formations/canva-5/
SUMMARY:CANVA
DESCRIPTION:Public : tout adhérent ayant déjà suivi la « Formation init
 iale CFTC »\n\nDurée : 1 jour\n\nPrérequis : Avoir une connaissance inf
 ormatique de base (navigation internet\, utilisation du courriel\, connais
 sance de base du\npack office…). Avoir une appétence pour la communicat
 ion visuelle et numérique.\n\nObjectifs de la formation :\n- Comprendre l
 es principes de base de la conception graphique pour une communication eff
 icace\, tant sur support papier que\ndigital.\n- Maîtriser l'outil Canva 
 pour créer des visuels percutants.\n- Intégrer efficacement les créatio
 ns de Canva dans les communications et campagnes syndicales CFTC.\n- Méth
 odes pédagogiques :\n- Méthodes actives / Cas pratiques\n\nEquipement et
  préparation :\nLe stagiaire est invité à amener son ordinateur portabl
 e débridé (sans blocage internet/logiciels)\nIl utilise un PC avec le sy
 stème d’exploitation Windows/Mac\nDans l’idéal\, le stagiaire a déj
 à créé un compte Canva avant la formation (mieux si la version pro\, ma
 is pour la formation une\nversion gratuite suffit).\n&nbsp\;\nChèque de c
 aution de 25 € obligatoire pour valider votre inscription à une formati
 on\, à envoyer à la structure concernée : UD ou URIF. Les forums ne son
 t pas concernés.\nVoir le programme complet \nDEMANDE CFESES EMPLOYEUR 2
 026
ATTACH;FMTTYPE=image/jpeg:https://www.cftc-idf.fr/wp-content/uploads/2024/
 10/young-beautiful-girl-uses-laptop-cafe-surfing-internet-scaled.jpg
CATEGORIES:UD 78
LOCATION:UD 78\, 57 bd de la Reine\, Versailles \, 78000\, France
X-APPLE-STRUCTURED-LOCATION;VALUE=URI;X-ADDRESS=57 bd de la Reine\, Versail
 les \, 78000\, France;X-APPLE-RADIUS=100;X-TITLE=UD 78:geo:0,0
END:VEVENT
BEGIN:VTIMEZONE
TZID:Europe/Paris
X-LIC-LOCATION:Europe/Paris
BEGIN:STANDARD
DTSTART:20261025T020000
TZOFFSETFROM:+0200
TZOFFSETTO:+0100
TZNAME:CET
END:STANDARD
END:VTIMEZONE
END:VCALENDAR